BEGIN:VCALENDAR
VERSION:2.0
PRODID:-//Vänsterpartiet Nacka - ECPv6.15.17.1//NONSGML v1.0//EN
CALSCALE:GREGORIAN
METHOD:PUBLISH
X-WR-CALNAME:Vänsterpartiet Nacka
X-ORIGINAL-URL:https://nacka.vansterpartiet.se
X-WR-CALDESC:Händelser för Vänsterpartiet Nacka
REFRESH-INTERVAL;VALUE=DURATION:PT1H
X-Robots-Tag:noindex
X-PUBLISHED-TTL:PT1H
BEGIN:VTIMEZONE
TZID:Europe/Stockholm
BEGIN:DAYLIGHT
TZOFFSETFROM:+0100
TZOFFSETTO:+0200
TZNAME:CEST
DTSTART:20250330T010000
END:DAYLIGHT
BEGIN:STANDARD
TZOFFSETFROM:+0200
TZOFFSETTO:+0100
TZNAME:CET
DTSTART:20251026T010000
END:STANDARD
BEGIN:DAYLIGHT
TZOFFSETFROM:+0100
TZOFFSETTO:+0200
TZNAME:CEST
DTSTART:20260329T010000
END:DAYLIGHT
BEGIN:STANDARD
TZOFFSETFROM:+0200
TZOFFSETTO:+0100
TZNAME:CET
DTSTART:20261025T010000
END:STANDARD
BEGIN:DAYLIGHT
TZOFFSETFROM:+0100
TZOFFSETTO:+0200
TZNAME:CEST
DTSTART:20270328T010000
END:DAYLIGHT
BEGIN:STANDARD
TZOFFSETFROM:+0200
TZOFFSETTO:+0100
TZNAME:CET
DTSTART:20271031T010000
END:STANDARD
END:VTIMEZONE
BEGIN:VEVENT
DTSTART;VALUE=DATE:20260425
DTEND;VALUE=DATE:20260427
DTSTAMP:20260421T095757
CREATED:20260313T135309Z
LAST-MODIFIED:20260409T114409Z
UID:6185-1777075200-1777247999@nacka.vansterpartiet.se
SUMMARY:Vänsterdagarna
DESCRIPTION:✰ Äntligen har vi äran att presentera vårens Vänsterdagar i Nacka! ✰ \nTillsammans med Vänsterpartiet Värmdö ser vi fram emot att inspireras av några av de vassaste rösterna\, både inifrån och utifrån partiet\, träffas\, lära känna varandra och prata om hur vi kan skapa en historiskt stark valrörelse i östra Stockholms två bästa kommuner. \nVi behöver en politik som håller ihop välfärden\, skapar en tryggare ekonomi för hushållen och driver verkliga klimatsatsningar. Vänsterdagarna är vår gemensamma verkstad för att ta oss dit. Under två intensiva dagar fördjupar vi politiken\, tränar praktiska färdigheter och bygger nätverk som stärker vår lokala rörelse. Här knyts kontakter\, här slipas budskap och här hämtar vi kraft inför nästa steg. \nVänsterdagarna äger rum 25–26 april i Träfflokalen Smedjan på Nya gatan 12\, med goda förbindelser till Värmdö och hela Nacka. Programmet finnes här och nedan ser du tre av talarna under dagen\, förutom Johanna Kvist\, oppositonsråd för (S): \n\n\n\n         \nIlyas Hassan-2\n\n\n         \nAnna Sehlin-2\n\n\n         \nIda Gabrielsson-2\n\n\n\nDeltagandet är kostnadsfritt\, men bida gärna med en slant till vår valfond om du har möjlighet. Swishnummer 123 0494 260 eller PlusGiro 79 39 63-0. Märk betalningen Valfonden. \n\n\nAnmälan Anmälningsformuläret hittar du nedan. Det är inget krav på att vara medlem för att delta så bjud gärna in din vän eller granne som är nyfiken på hur man engagerar sig för Vänsterpartiet i valrörelsen! \n\n\n        Anmälan
URL:https://nacka.vansterpartiet.se/event/vansterdagarna/
LOCATION:Träfflokalen Smedjan på Nya gatan 12\, Träfflokalen Smedjan på Nya gatan 12
ATTACH;FMTTYPE=image/png:https://nacka.vansterpartiet.se/files/2026/03/7f91053b-0064-2a31-b23c-09506de2f4ee.png
END:VEVENT
END:VCALENDAR