BEGIN:VCALENDAR
VERSION:2.0
PRODID:-//Vänsterpartiet Nacka - ECPv6.15.17.1//NONSGML v1.0//EN
CALSCALE:GREGORIAN
METHOD:PUBLISH
X-ORIGINAL-URL:https://nacka.vansterpartiet.se
X-WR-CALDESC:Händelser för Vänsterpartiet Nacka
REFRESH-INTERVAL;VALUE=DURATION:PT1H
X-Robots-Tag:noindex
X-PUBLISHED-TTL:PT1H
BEGIN:VTIMEZONE
TZID:Europe/Stockholm
BEGIN:DAYLIGHT
TZOFFSETFROM:+0100
TZOFFSETTO:+0200
TZNAME:CEST
DTSTART:20230326T010000
END:DAYLIGHT
BEGIN:STANDARD
TZOFFSETFROM:+0200
TZOFFSETTO:+0100
TZNAME:CET
DTSTART:20231029T010000
END:STANDARD
BEGIN:DAYLIGHT
TZOFFSETFROM:+0100
TZOFFSETTO:+0200
TZNAME:CEST
DTSTART:20240331T010000
END:DAYLIGHT
BEGIN:STANDARD
TZOFFSETFROM:+0200
TZOFFSETTO:+0100
TZNAME:CET
DTSTART:20241027T010000
END:STANDARD
BEGIN:DAYLIGHT
TZOFFSETFROM:+0100
TZOFFSETTO:+0200
TZNAME:CEST
DTSTART:20250330T010000
END:DAYLIGHT
BEGIN:STANDARD
TZOFFSETFROM:+0200
TZOFFSETTO:+0100
TZNAME:CET
DTSTART:20251026T010000
END:STANDARD
END:VTIMEZONE
BEGIN:VEVENT
DTSTART;TZID=Europe/Stockholm:20241024T180000
DTEND;TZID=Europe/Stockholm:20241024T200000
DTSTAMP:20260422T031851
CREATED:20241005T130050Z
LAST-MODIFIED:20241022T183711Z
UID:5521-1729792800-1729800000@nacka.vansterpartiet.se
SUMMARY:[INSTÄLLT] Kaffe och politik: Våld i nära relationer
DESCRIPTION:Fika och diskussion. Hur ser det ut i Nacka och övriga landet och vilka politiska åtgärder är effektiva i att minska det?
URL:https://nacka.vansterpartiet.se/event/kaffe-politik-vald-i-nara-relationer/
LOCATION:Partilokalen\, Edinsvägen 14
END:VEVENT
END:VCALENDAR