BEGIN:VCALENDAR
VERSION:2.0
PRODID:-//Vänsterpartiet Nacka - ECPv6.15.17.1//NONSGML v1.0//EN
CALSCALE:GREGORIAN
METHOD:PUBLISH
X-ORIGINAL-URL:https://nacka.vansterpartiet.se
X-WR-CALDESC:Händelser för Vänsterpartiet Nacka
REFRESH-INTERVAL;VALUE=DURATION:PT1H
X-Robots-Tag:noindex
X-PUBLISHED-TTL:PT1H
BEGIN:VTIMEZONE
TZID:Europe/Stockholm
BEGIN:DAYLIGHT
TZOFFSETFROM:+0100
TZOFFSETTO:+0200
TZNAME:CEST
DTSTART:20240331T010000
END:DAYLIGHT
BEGIN:STANDARD
TZOFFSETFROM:+0200
TZOFFSETTO:+0100
TZNAME:CET
DTSTART:20241027T010000
END:STANDARD
BEGIN:DAYLIGHT
TZOFFSETFROM:+0100
TZOFFSETTO:+0200
TZNAME:CEST
DTSTART:20250330T010000
END:DAYLIGHT
BEGIN:STANDARD
TZOFFSETFROM:+0200
TZOFFSETTO:+0100
TZNAME:CET
DTSTART:20251026T010000
END:STANDARD
BEGIN:DAYLIGHT
TZOFFSETFROM:+0100
TZOFFSETTO:+0200
TZNAME:CEST
DTSTART:20260329T010000
END:DAYLIGHT
BEGIN:STANDARD
TZOFFSETFROM:+0200
TZOFFSETTO:+0100
TZNAME:CET
DTSTART:20261025T010000
END:STANDARD
END:VTIMEZONE
BEGIN:VEVENT
DTSTART;TZID=Europe/Stockholm:20250410T183000
DTEND;TZID=Europe/Stockholm:20250410T203000
DTSTAMP:20260421T200247
CREATED:20250314T115340Z
LAST-MODIFIED:20250314T115754Z
UID:5653-1744309800-1744317000@nacka.vansterpartiet.se
SUMMARY:Budgetgranskningscirkel
DESCRIPTION:Få möjlighet att öva på att arbeta med budget och bokslut och lär dig förstå kommunala nämnders budgetar. \nDenna träff utgår ifrån Äldrenämndens budget för 2025 med utgångspunkt i metoden från tillfälle 1 – Praktisk övning i budgetgranskning.
URL:https://nacka.vansterpartiet.se/event/budgetgranskningscirkel-2/
LOCATION:Partilokalen\, Edinsvägen 14
END:VEVENT
BEGIN:VEVENT
DTSTART;TZID=Europe/Stockholm:20250429T183000
DTEND;TZID=Europe/Stockholm:20250429T200000
DTSTAMP:20260421T200247
CREATED:20250424T203225Z
LAST-MODIFIED:20250424T203255Z
UID:5681-1745951400-1745956800@nacka.vansterpartiet.se
SUMMARY:Medlemsmöte om V i Nacka och regionen om kollektivtrafikkaoset
DESCRIPTION:Kaffe\, te och kakor serveras. \nVar står vi i Nacka och regionen när det gäller kollektivtrafikkaoset och vad är strategin? \nVi hade nyligen två välbesökta Soppa och politik\, en i Fisksätra och en i Jarlaberg\, om kollektivtrafikkaoset. Vi i planeringsgruppen för Soppa och politik tycker att mycket bra kom ut av de mötena och känner ett behov av att vi kommunicerar tillbaka till boende i Fisksätra och Jarlaberg hur vi tänker förvalta mötesdeltagarnas synpunkter genom att sätta upp affischer och dela flygblad om det. \nI planeringsgruppen har vi dock insett att flera medlemmar som kan tänkas dela ut flygbladen vill bli säkrare på hur vårt samarbete med regionens S+MP+C-styre fungerar och vad vi har gjort där\, vilket ansvar vi har och vad regiongruppens strategi i kollektivtrafikfrågorna är. Det är också ett bra tillfälle för alla medlemmar som vill ha mer på fötter om hur regiongruppen jobbar med kollektivtrafiken. \nLisa Rasmussen som sitter i regionfullmäktige och är Nackamedlem berättar om hur regiongruppens stöd till S+MP+C-styret ser ut principiellt och speciellt i kollektivtrafikfrågorna. Vi går igenom vilket alternativt budgetförslag som Vänsterpartiet la senast i regionfullmäktige och vad regiongruppen driver\, som att återinföra tågvärdarna i pendeltågstrafiken och att återta trafiken i egen regi.
URL:https://nacka.vansterpartiet.se/event/medlemsmote-om-v-i-nacka-och-regionen-om-kollektivtrafikkaoset/
LOCATION:Partilokalen\, Edinsvägen 14
END:VEVENT
END:VCALENDAR