BEGIN:VCALENDAR
VERSION:2.0
PRODID:-//Vänsterpartiet Nacka - ECPv6.15.17.1//NONSGML v1.0//EN
CALSCALE:GREGORIAN
METHOD:PUBLISH
X-ORIGINAL-URL:https://nacka.vansterpartiet.se
X-WR-CALDESC:Händelser för Vänsterpartiet Nacka
REFRESH-INTERVAL;VALUE=DURATION:PT1H
X-Robots-Tag:noindex
X-PUBLISHED-TTL:PT1H
BEGIN:VTIMEZONE
TZID:Europe/Stockholm
BEGIN:DAYLIGHT
TZOFFSETFROM:+0100
TZOFFSETTO:+0200
TZNAME:CEST
DTSTART:20240331T010000
END:DAYLIGHT
BEGIN:STANDARD
TZOFFSETFROM:+0200
TZOFFSETTO:+0100
TZNAME:CET
DTSTART:20241027T010000
END:STANDARD
BEGIN:DAYLIGHT
TZOFFSETFROM:+0100
TZOFFSETTO:+0200
TZNAME:CEST
DTSTART:20250330T010000
END:DAYLIGHT
BEGIN:STANDARD
TZOFFSETFROM:+0200
TZOFFSETTO:+0100
TZNAME:CET
DTSTART:20251026T010000
END:STANDARD
BEGIN:DAYLIGHT
TZOFFSETFROM:+0100
TZOFFSETTO:+0200
TZNAME:CEST
DTSTART:20260329T010000
END:DAYLIGHT
BEGIN:STANDARD
TZOFFSETFROM:+0200
TZOFFSETTO:+0100
TZNAME:CET
DTSTART:20261025T010000
END:STANDARD
END:VTIMEZONE
BEGIN:VEVENT
DTSTART;TZID=Europe/Stockholm:20250508T183000
DTEND;TZID=Europe/Stockholm:20250508T203000
DTSTAMP:20260421T184316
CREATED:20250314T115646Z
LAST-MODIFIED:20250314T115646Z
UID:5658-1746729000-1746736200@nacka.vansterpartiet.se
SUMMARY:Budgetgranskningscirkel
DESCRIPTION:Få möjlighet att öva på att arbeta med budget och bokslut och lär dig förstå kommunala nämnders budgetar. \nUtgår ifrån Äldrenämndens budget för 2024 och bokslut för Äldrenämnden 2024 – Praktisk övning i att jämföra budget och bokslut.
URL:https://nacka.vansterpartiet.se/event/budgetgranskningscirkel-3/
LOCATION:Partilokalen\, Edinsvägen 14
END:VEVENT
BEGIN:VEVENT
DTSTART;TZID=Europe/Stockholm:20250514T173000
DTEND;TZID=Europe/Stockholm:20250514T210000
DTSTAMP:20260421T184316
CREATED:20250509T203853Z
LAST-MODIFIED:20250509T204708Z
UID:5736-1747243800-1747256400@nacka.vansterpartiet.se
SUMMARY:Medlemsmöte 14 maj
DESCRIPTION:Medlemsmöte i tre delar. Dagordning kommer finnas tillgänglig vid mötesstart. Först fattar vi ett inriktningsbeslut kring valbudgeten\, genomför två valärenden och därefter deltar vi gemensamt i partiets klimat- och miljönätverks webbinarium med Jonas Sjöstedt. \nDu är varmt välkommen att delta i hela mötet – eller bara i den del som passar dig bäst! Lokalen är öppen från 17.30 och vi bjuder på fika. \nDEL 1:  18.00 Budgetinriktning\nUnder medlemsmötet ska vi ta ett inriktningsbeslut för valbudgeten. Vi är för tidigt ute för att kunna besluta på detaljnivå\, men medlemmarnas beslut om inriktning är tänkt att sätta ramar för budgetgruppens och kommunala gruppens arbete med budgeten. Kommunala gruppen har tagit fram följande förslag till inriktningsbeslut\, och överlämnar det till medlemsmötet: \nInriktningsbeslut budget för 2026 – vår valbudget\nSedan Reinfeldtregeringen tillträdde 2006 har den offentliga ekonomin minskats genom skattesänkningar om 500 miljarder kronor om året\, vilket lett till nedskärningar i välfärden och stora avgiftshöjningar. Vi ska ifrågasätta borgarnas berättelse om att skattesänkningarna förstärker hushållens ekonomi\, och leverera vår egen berättelse: att det som stärker hushållen är avgiftssänkningar och välfärd efter behov. Vi ska också betona att stora investeringar i infrastrukturen behövs för att vi ska kunna klara klimatomställningen. \nViktiga punkter i budgeten: \n\nAvgiftssänkningar för vår typfamilj\nFörstärk välfärden för att möta de faktiska behoven\nFinansiera nödvändig infrastruktur\nEn höjd skattesats motiveras av föregående punkter\n\nDEL 2:  18.15 Två valärenden\nFöreningen ska välja nya representanter till ordinarie ledamöter till Natur- och trafiknämnden samt ersättare i Miljö- och stadsbyggnadsnämnden. Nomineringar skickas till valeberedningen via birgithansson2008@live.se. Senast 13/5. OBS Om vi inte blir klara med denna punkt fortsätter vi efter del 3. \nDEL 3:  18.30 Klimat- och miljönätverkets webinarium med Jonas Sjöstedt \n \nVi deltar tillsammans i partiets Klimat- och miljönätverks webbinarium med Jonas Sjöstedt. Jonas kommer att berätta om de aktuella klimat- och miljöfrågorna han arbetar med som EU-politiker i Bryssel. Sedan följer ett samtal modererat av Christina Hedin som både arbetar med Jonas i EU och ingår i styrgruppen för vårt Klimat- och miljönätverk.
URL:https://nacka.vansterpartiet.se/event/medlemsmote-14-maj/
LOCATION:Partilokalen\, Edinsvägen 14
END:VEVENT
END:VCALENDAR