BEGIN:VCALENDAR
VERSION:2.0
PRODID:-//Vänsterpartiet Nacka - ECPv6.15.17.1//NONSGML v1.0//EN
CALSCALE:GREGORIAN
METHOD:PUBLISH
X-WR-CALNAME:Vänsterpartiet Nacka
X-ORIGINAL-URL:https://nacka.vansterpartiet.se
X-WR-CALDESC:Händelser för Vänsterpartiet Nacka
REFRESH-INTERVAL;VALUE=DURATION:PT1H
X-Robots-Tag:noindex
X-PUBLISHED-TTL:PT1H
BEGIN:VTIMEZONE
TZID:Europe/Stockholm
BEGIN:DAYLIGHT
TZOFFSETFROM:+0100
TZOFFSETTO:+0200
TZNAME:CEST
DTSTART:20240331T010000
END:DAYLIGHT
BEGIN:STANDARD
TZOFFSETFROM:+0200
TZOFFSETTO:+0100
TZNAME:CET
DTSTART:20241027T010000
END:STANDARD
BEGIN:DAYLIGHT
TZOFFSETFROM:+0100
TZOFFSETTO:+0200
TZNAME:CEST
DTSTART:20250330T010000
END:DAYLIGHT
BEGIN:STANDARD
TZOFFSETFROM:+0200
TZOFFSETTO:+0100
TZNAME:CET
DTSTART:20251026T010000
END:STANDARD
BEGIN:DAYLIGHT
TZOFFSETFROM:+0100
TZOFFSETTO:+0200
TZNAME:CEST
DTSTART:20260329T010000
END:DAYLIGHT
BEGIN:STANDARD
TZOFFSETFROM:+0200
TZOFFSETTO:+0100
TZNAME:CET
DTSTART:20261025T010000
END:STANDARD
END:VTIMEZONE
BEGIN:VEVENT
DTSTART;TZID=Europe/Stockholm:20250611T180000
DTEND;TZID=Europe/Stockholm:20250611T200000
DTSTAMP:20260421T172437
CREATED:20250604T124644Z
LAST-MODIFIED:20250611T103227Z
UID:5759-1749664800-1749672000@nacka.vansterpartiet.se
SUMMARY:Medlemsmöte 11 juni
DESCRIPTION:Styrelsen har fått önskemål från medlemmar att hålla möte utifrån den senaste tidens händelser i partiet med ett medialt uppmärksammat personärende och palestinafrågan. Representanter från partistyrelsen var därför inbjudna för att samtala med oss om detta\, men tyvärr har ingen därifrån möjlighet att delta. Syftet med mötet är ändå att ge en öppen och konstruktiv möjlighet till dialog och reflektion. Vi hoppas att så många som möjligt kan delta för att bidra till ett respektfullt och sakligt samtal. \nPå medlemsmötet kommer vi också att välja en ny representant till Natur- och trafiknämnden som har blivit vakant under våren\, dvs den nämnd som ansvarar för kommunens vägar\, gator och övrig allmän platsmark samt park- och naturmark. Är du eller vet du någon som är intresserad av att arbeta politiskt med dessa frågor\, nominera till valberedare birgithansson2008@live.se senast 9 maj.
URL:https://nacka.vansterpartiet.se/event/medlemsmote-11-juni/
LOCATION:Partilokalen\, Edinsvägen 14
END:VEVENT
END:VCALENDAR