BEGIN:VCALENDAR
VERSION:2.0
PRODID:-//Vänsterpartiet Nacka - ECPv6.15.17.1//NONSGML v1.0//EN
CALSCALE:GREGORIAN
METHOD:PUBLISH
X-ORIGINAL-URL:https://nacka.vansterpartiet.se
X-WR-CALDESC:Händelser för Vänsterpartiet Nacka
REFRESH-INTERVAL;VALUE=DURATION:PT1H
X-Robots-Tag:noindex
X-PUBLISHED-TTL:PT1H
BEGIN:VTIMEZONE
TZID:Europe/Stockholm
BEGIN:DAYLIGHT
TZOFFSETFROM:+0100
TZOFFSETTO:+0200
TZNAME:CEST
DTSTART:20240331T010000
END:DAYLIGHT
BEGIN:STANDARD
TZOFFSETFROM:+0200
TZOFFSETTO:+0100
TZNAME:CET
DTSTART:20241027T010000
END:STANDARD
BEGIN:DAYLIGHT
TZOFFSETFROM:+0100
TZOFFSETTO:+0200
TZNAME:CEST
DTSTART:20250330T010000
END:DAYLIGHT
BEGIN:STANDARD
TZOFFSETFROM:+0200
TZOFFSETTO:+0100
TZNAME:CET
DTSTART:20251026T010000
END:STANDARD
BEGIN:DAYLIGHT
TZOFFSETFROM:+0100
TZOFFSETTO:+0200
TZNAME:CEST
DTSTART:20260329T010000
END:DAYLIGHT
BEGIN:STANDARD
TZOFFSETFROM:+0200
TZOFFSETTO:+0100
TZNAME:CET
DTSTART:20261025T010000
END:STANDARD
END:VTIMEZONE
BEGIN:VEVENT
DTSTART;TZID=Europe/Stockholm:20250927T093000
DTEND;TZID=Europe/Stockholm:20250927T150000
DTSTAMP:20260421T134759
CREATED:20250813T172021Z
LAST-MODIFIED:20250919T123225Z
UID:5844-1758965400-1758985200@nacka.vansterpartiet.se
SUMMARY:Valupptakt
DESCRIPTION:Varmt välkommen på Vänsterpartiet Nackas valupptakt!\nDet är knappt ett år kvar till valen till riksdagen\, Region Stockholm och Nacka\nkommun. Vi i Vänsterpartiet Nacka är redan igång med planering av\nvalrörelsen. Nu bjuds alla medlemmar och sympatisörer till en valupptakt för att\nhöra om våra politiska strategier och kunna bilda en uppfattning om hur just du\nkan jobba för att vi ska byta politisk inriktning för Sverige\, Stockholmsregionen\noch Nacka genom ökat inflytande för Vänsterpartiet.\nTid: 9.30 Frukostmacka och kaffe serveras. Mötet början 10.00 och dagen är\nslut 15.00\nPlats: Partiföreningslokalen i Ektorp\, Edinsvägen 14\nMat: Vi bjuder på frukostmacka och lunch. Anmäl matpreferenser i formuläret\nnedan. \nUr programmet:\n• Jonas Lindberg kommer från partistyrelsen och presenterar de politiska\noch organisatoriska strategierna partistyrelsen har.\n• Leif Åsbrink kommer från Solna och berättar om hur de bytte styre från\nett 16-årigt moderatlett styre där 2022 och vad Vänsterpartiet kunnat\ngenomföra för att förbättra för Solnaborna.\n• Valledningen presenteras. Nackaföreningens valledare Lisa Rasmussen\nföredrar från gruppen och kommer ett presentera målsättningar och\nprioriterade målgrupper och områden i Nacka samt berätta om vad var\noch en kan göra i Nacka under valrörelsen.\n• Workshops med politiska diskussioner om vad som är viktiga\nNackafrågor att prioritera i valrörelsen. \nAnmälan sker här. Notera att ett google-konto behövs. Saknar du ett\, vänligen anmäl dig till nacka@vansterpartiet.se\, skriv ”Anmälan valupptakt” i ämnesraden. \n 
URL:https://nacka.vansterpartiet.se/event/valupptakt/
LOCATION:Partilokalen\, Edinsvägen 14
END:VEVENT
END:VCALENDAR