BEGIN:VCALENDAR
VERSION:2.0
PRODID:-//Vänsterpartiet Nacka - ECPv6.15.17.1//NONSGML v1.0//EN
CALSCALE:GREGORIAN
METHOD:PUBLISH
X-WR-CALNAME:Vänsterpartiet Nacka
X-ORIGINAL-URL:https://nacka.vansterpartiet.se
X-WR-CALDESC:Händelser för Vänsterpartiet Nacka
REFRESH-INTERVAL;VALUE=DURATION:PT1H
X-Robots-Tag:noindex
X-PUBLISHED-TTL:PT1H
BEGIN:VTIMEZONE
TZID:Europe/Stockholm
BEGIN:DAYLIGHT
TZOFFSETFROM:+0100
TZOFFSETTO:+0200
TZNAME:CEST
DTSTART:20240331T010000
END:DAYLIGHT
BEGIN:STANDARD
TZOFFSETFROM:+0200
TZOFFSETTO:+0100
TZNAME:CET
DTSTART:20241027T010000
END:STANDARD
BEGIN:DAYLIGHT
TZOFFSETFROM:+0100
TZOFFSETTO:+0200
TZNAME:CEST
DTSTART:20250330T010000
END:DAYLIGHT
BEGIN:STANDARD
TZOFFSETFROM:+0200
TZOFFSETTO:+0100
TZNAME:CET
DTSTART:20251026T010000
END:STANDARD
BEGIN:DAYLIGHT
TZOFFSETFROM:+0100
TZOFFSETTO:+0200
TZNAME:CEST
DTSTART:20260329T010000
END:DAYLIGHT
BEGIN:STANDARD
TZOFFSETFROM:+0200
TZOFFSETTO:+0100
TZNAME:CET
DTSTART:20261025T010000
END:STANDARD
END:VTIMEZONE
BEGIN:VEVENT
DTSTART;TZID=Europe/Stockholm:20251106T180000
DTEND;TZID=Europe/Stockholm:20251106T200000
DTSTAMP:20260421T111530
CREATED:20251022T101851Z
LAST-MODIFIED:20251031T175534Z
UID:5897-1762452000-1762459200@nacka.vansterpartiet.se
SUMMARY:Medlemsmöte
DESCRIPTION:Välkommen på medlemsmöte i Ektorp! Vi träffas klockan 18.00-20.00 i vår\npartilokal på Edinsvägen 14. På plats kommer Budgetgruppen presentera\nnyheter och spännande innehåll i budgeten för 2026. Budgeten kan du\nhitta här. Gruppen kommer också rapportera hur man har gått tillväga för att\nefterleva medlemmarnas inriktningsbeslut. Sedan efterföljer en diskussion där\ndu som medlem kan ge kommentarer till budgetarbetet\, resultatet och diskutera\nhur vi tillsammans kan gå tillväga för att sprida vår politik utanför fullmäktige.\nDet kommer bjudas på fika\, goda samtal och du är varmt välkommen\nensam eller med en vän eller familjemedlem!
URL:https://nacka.vansterpartiet.se/event/medlemsmote/
LOCATION:Partilokalen\, Edinsvägen 14
END:VEVENT
BEGIN:VEVENT
DTSTART;TZID=Europe/Stockholm:20251108T130000
DTEND;TZID=Europe/Stockholm:20251108T150000
DTSTAMP:20260421T111530
CREATED:20251031T180050Z
LAST-MODIFIED:20251031T180553Z
UID:5930-1762606800-1762614000@nacka.vansterpartiet.se
SUMMARY:Tidningsutdelning Vänstern i Vården 8 nov
DESCRIPTION:Var med och dela Vänstern i Vården-tidningen 8 november!\nVänstern i vården är ett samarbete mellan Vänsterpartiets regiongrupper som\ntillsammans verkar för en jämlik sjukvård i hela landet. Det finns en hemsida\noch en även en papperstidning som ges ut ett par gånger per år. Nästa\nnummer av tidningen har tema Stoppa rånet. Huvudartikeln handlar om\nvälfärdsbrottslighet och om hur Kry och andra nätläkare suger ut resten av\nvårdsystemet. I Nacka organiserar vi utdelning — och det finns fortfarande\nmöjlighet att anmäla sig. Man kan vara med hela tillfället eller ansluta under en\nav timmarna.\nUtdelningen sker lördag 8 november och söndag 9 november mellan\n13.00-15.00 både i Nacka Forum och Sickla köpcenter.\nVill du vara med och dela ut tidningar eller har du frågor och funderingar?\nKontakta Birgit Hansson på birgithansson2008@live.se
URL:https://nacka.vansterpartiet.se/event/tidningsutdelning-vanstern-i-varden/
END:VEVENT
BEGIN:VEVENT
DTSTART;TZID=Europe/Stockholm:20251109T130000
DTEND;TZID=Europe/Stockholm:20251109T150000
DTSTAMP:20260421T111530
CREATED:20251031T180655Z
LAST-MODIFIED:20251031T180655Z
UID:5937-1762693200-1762700400@nacka.vansterpartiet.se
SUMMARY:Tidningsutdelning Vänstern i Vården 9 nov
DESCRIPTION:Var med och dela Vänstern i Vården-tidningen 9 november!\nVänstern i vården är ett samarbete mellan Vänsterpartiets regiongrupper som\ntillsammans verkar för en jämlik sjukvård i hela landet. Det finns en hemsida\noch en även en papperstidning som ges ut ett par gånger per år. Nästa\nnummer av tidningen har tema Stoppa rånet. Huvudartikeln handlar om\nvälfärdsbrottslighet och om hur Kry och andra nätläkare suger ut resten av\nvårdsystemet. I Nacka organiserar vi utdelning — och det finns fortfarande\nmöjlighet att anmäla sig. Man kan vara med hela tillfället eller ansluta under en\nav timmarna.\nUtdelningen sker lördag 8 november och söndag 9 november mellan\n13.00-15.00 både i Nacka Forum och Sickla köpcenter.\nVill du vara med och dela ut tidningar eller har du frågor och funderingar?\nKontakta Birgit Hansson på birgithansson2008@live.se
URL:https://nacka.vansterpartiet.se/event/tidningsutdelning-vanstern-i-varden-9-nov/
END:VEVENT
BEGIN:VEVENT
DTSTART;TZID=Europe/Stockholm:20251119T173000
DTEND;TZID=Europe/Stockholm:20251119T191500
DTSTAMP:20260421T111530
CREATED:20251031T180338Z
LAST-MODIFIED:20251031T180836Z
UID:5932-1763573400-1763579700@nacka.vansterpartiet.se
SUMMARY:Dörrknackning 19 nov
DESCRIPTION:Prova på att knacka dörr 19 november!\nVänsterpartiet kommer att satsa stort på dörrknackning inför valrörelsen över\nhela landet efter att ha inspirerats av framgångsrika rörelser med\ndörrknackning i Tyskland\, England och Norge. I Nacka har vi ett försprång då vi\nredan har knackat dörr inför EU-valet och i samband med Soppa och Politik i\nFisksätra.\nNu behöver vi fler som knackar! Under dessa tillfällen knackar man alltid två\noch två och är du ny blir du ihopparad med en erfaren knackare. Du behöver\ninte vara expert på sakkpolitik utan det viktigaste är att lyssna in de boende i\nområdet och skapa förtroende. Vi har redan ett gott rykte i Fisksätra och många\nblir glada över att vi knackar på.\nVi kommer samlas kl 17:30 för genomgång och test av profilkläder. Knackandet\npågår sedan till ca 19:15. I november marknadsför vi nästa Soppa och Politik\nsom kommer vara på Fisksätra Folkets hus 24 november. Temat är en\nuppföljning på kollektivtrafiken med besök från vänsterpartister från regionen\nmed målet att berätta om satsningar och lyssna in människors upplevelser av\nden lokala kollektivtrafiken.\nFölj med och prova på! Det blir en givande och riktigt rolig\nupplevelse! Anmälan sker till Alena Jukic på alena.jukic@nacka.se Det går jättbra att höra av sig med frågor och\nfunderingar man har.
URL:https://nacka.vansterpartiet.se/event/dorrknackning-19-nov/
END:VEVENT
END:VCALENDAR