BEGIN:VCALENDAR
VERSION:2.0
PRODID:-//Vänsterpartiet Nacka - ECPv6.15.17.1//NONSGML v1.0//EN
CALSCALE:GREGORIAN
METHOD:PUBLISH
X-WR-CALNAME:Vänsterpartiet Nacka
X-ORIGINAL-URL:https://nacka.vansterpartiet.se
X-WR-CALDESC:Händelser för Vänsterpartiet Nacka
REFRESH-INTERVAL;VALUE=DURATION:PT1H
X-Robots-Tag:noindex
X-PUBLISHED-TTL:PT1H
BEGIN:VTIMEZONE
TZID:Europe/Stockholm
BEGIN:DAYLIGHT
TZOFFSETFROM:+0100
TZOFFSETTO:+0200
TZNAME:CEST
DTSTART:20240331T010000
END:DAYLIGHT
BEGIN:STANDARD
TZOFFSETFROM:+0200
TZOFFSETTO:+0100
TZNAME:CET
DTSTART:20241027T010000
END:STANDARD
BEGIN:DAYLIGHT
TZOFFSETFROM:+0100
TZOFFSETTO:+0200
TZNAME:CEST
DTSTART:20250330T010000
END:DAYLIGHT
BEGIN:STANDARD
TZOFFSETFROM:+0200
TZOFFSETTO:+0100
TZNAME:CET
DTSTART:20251026T010000
END:STANDARD
BEGIN:DAYLIGHT
TZOFFSETFROM:+0100
TZOFFSETTO:+0200
TZNAME:CEST
DTSTART:20260329T010000
END:DAYLIGHT
BEGIN:STANDARD
TZOFFSETFROM:+0200
TZOFFSETTO:+0100
TZNAME:CET
DTSTART:20261025T010000
END:STANDARD
END:VTIMEZONE
BEGIN:VEVENT
DTSTART;TZID=Europe/Stockholm:20251207T093000
DTEND;TZID=Europe/Stockholm:20251207T160000
DTSTAMP:20260421T101656
CREATED:20251125T144848Z
LAST-MODIFIED:20251125T144848Z
UID:5967-1765099800-1765123200@nacka.vansterpartiet.se
SUMMARY:Vänsterdagen 2025
DESCRIPTION:Den 7 december har Vänsterpartiet Nacka sin alldeles egna Vänsterdag. Vänsterrörelsen gör just nu vinster runt om i hela världen\, inte minst de socialistiska partierna i Köpenhamn som vann valet i sin stad i veckan. 2026 är det vår tur!  \nVänsterdagen 7 december är till både för dig som aldrig tidigare har organiserat dig politiskt och till alla medlemmar och sympatisörer som gör sin andra\, tredje eller 15e valrörelse. Programmet är packat med valorganisering\, politik och plats för att prata och lära känna varandra. \nÄr du ännu inte medlem men ändå nyfiken?\nDu är varmt välkommen och får väldigt gärna också ta med en granne\, vän eller kollega som på något sätt vill bidra i valrörelsen och vara med och göra Nacka till en bättre plats för oss alla. \nVad: Vänsterdagen 2025\nVar: Fisksätra Folkets Hus\nNär: 7 december 9.30-16.00\nAnmälan sker här. Du kan även informera om matallergier och barnpassning. Anmälningslänken kräver ett Google-konto\, har du inte ett kan anmälan göras till nacka@vansterpartiet.se \nFöreningen bjuder på fika och lunch under dagen. Det är kostnadsfritt att delta men bidrag till Valfonden välkomnas varmt. QR-kod för Swish finnes under programmet härunder.
URL:https://nacka.vansterpartiet.se/event/vansterdagen-2025/
LOCATION:Fisksätra Folkets hus\, Fisksätravägen 18
ATTACH;FMTTYPE=image/png:https://nacka.vansterpartiet.se/files/2025/11/13ccb98c.png
END:VEVENT
BEGIN:VEVENT
DTSTART;TZID=Europe/Stockholm:20251210T180000
DTEND;TZID=Europe/Stockholm:20251210T200000
DTSTAMP:20260421T101656
CREATED:20251202T164605Z
LAST-MODIFIED:20251202T164605Z
UID:5974-1765389600-1765396800@nacka.vansterpartiet.se
SUMMARY:Infoträff – Hur det är att sitta i nämnd och kommunfullmäktige
DESCRIPTION:Under våren kommer vi att göra en lista på kandidater till kommunfullmäktigevalet. Och sedan efter valet så är det aktuellt att välja kamrater till alla platser i nämnder. Du kanske aldrig har tänkt på att kandidera? Oavsett\, ta tillfället i akt och hör om hur roligt det är med uppdrag i fullmäktige och nämnder och få möjlighet att fråga allt du kanske undrar över. \nRolf Wasteson håller i informationsträffen. Första tillfället är onsdag 10 december kl 18-20  i partilokalen på Edinsvägen 14 i Ektorp. Informationsträffen upprepas onsdag 14 januari\, samma tid och plats. Träffen är öppen men anmäl dig gärna till nacka@vansterpartiet.se\, dock inget krav.
URL:https://nacka.vansterpartiet.se/event/infotraff-hur-det-ar-att-sitta-i-namnd-och-kommunfullmaktige/
LOCATION:Partilokalen\, Edinsvägen 14
END:VEVENT
BEGIN:VEVENT
DTSTART;TZID=Europe/Stockholm:20251215T173000
DTEND;TZID=Europe/Stockholm:20251215T210000
DTSTAMP:20260421T101656
CREATED:20251208T155708Z
LAST-MODIFIED:20251211T212638Z
UID:5982-1765819800-1765832400@nacka.vansterpartiet.se
SUMMARY:Medlemsmöte om valrörelsen och kongressen
DESCRIPTION:Partistyrelsen bjuder in till digitalt medlemsmöte för alla partiföreningar den 15 december. På dagordningen finns valrörelsen och partistyrelsens förslag inför kongressen 17-19 april. Samling i partilokalen kl. 17:30 – det bjuds på kvällsmatig fika – och från 18:00 tittar på sändningen som pågår till 20:00\, och diskuterar därefter. \nSedan avslutar vi genom att genomföra partiföreningens ombudsval till valkonferenserna och kongressen. Vi räknar med att avsluta omkring kl. 21.00. \nI sändningen medverkar bland andra Nooshi Dadgostar\, Ida Gabrielsson och Maria Forsberg från partiledningen som fokuserar på valstrategier och partistyrelsens förslag på valplattform och stadgeförändringar till kongressen. Som gäst medverkar också Jack Buck som medverkade på Vänsterdagarna och som nu fortsatt kommer finnas med som samordnare och inspiratör för att fler ska komma igång och lyckas med dörrknackning som kampanjmetod i valrörelsen.
URL:https://nacka.vansterpartiet.se/event/medlemsmote-om-valrorelsen-och-kongressen/
LOCATION:Partilokalen\, Edinsvägen 14
ATTACH;FMTTYPE=image/png:https://nacka.vansterpartiet.se/files/2025/12/untitled.png
END:VEVENT
BEGIN:VEVENT
DTSTART;TZID=Europe/Stockholm:20251217T173000
DTEND;TZID=Europe/Stockholm:20251217T191500
DTSTAMP:20260421T101656
CREATED:20251031T180432Z
LAST-MODIFIED:20251031T180849Z
UID:5934-1765992600-1765998900@nacka.vansterpartiet.se
SUMMARY:Dörrknackning 17 dec
DESCRIPTION:Prova på att knacka dörr 17 december!\nVänsterpartiet kommer att satsa stort på dörrknackning inför valrörelsen över\nhela landet efter att ha inspirerats av framgångsrika rörelser med\ndörrknackning i Tyskland\, England och Norge. I Nacka har vi ett försprång då vi\nredan har knackat dörr inför EU-valet och i samband med Soppa och Politik i\nFisksätra.\nNu behöver vi fler som knackar! Under dessa tillfällen knackar man alltid två\noch två och är du ny blir du ihopparad med en erfaren knackare. Du behöver\ninte vara expert på sakkpolitik utan det viktigaste är att lyssna in de boende i\nområdet och skapa förtroende. Vi har redan ett gott rykte i Fisksätra och många\nblir glada över att vi knackar på.\nVi kommer samlas kl 17:30 för genomgång och test av profilkläder. Knackandet\npågår sedan till ca 19:15. I november marknadsför vi nästa Soppa och Politik\nsom kommer vara på Fisksätra Folkets hus 24 november. Temat är en\nuppföljning på kollektivtrafiken med besök från vänsterpartister från regionen\nmed målet att berätta om satsningar och lyssna in människors upplevelser av\nden lokala kollektivtrafiken.\nFölj med och prova på! Det blir en givande och riktigt rolig\nupplevelse! Anmälan sker till Alena Jukic på alena.jukic@nacka.se Det går jättbra att höra av sig med frågor och\nfunderingar man har.
URL:https://nacka.vansterpartiet.se/event/dorrknackning-17-dec/
END:VEVENT
END:VCALENDAR